BEGIN:VCALENDAR
VERSION:2.0
PRODID:icalendar-ruby
CALSCALE:GREGORIAN
BEGIN:VEVENT
DTSTAMP:20210120T202118Z
UID:62bda432-ead0-4c7e-9b9c-7a9e3515418e
DTSTART;VALUE=DATE:20200904
DESCRIPTION:Property ID# 487434\, Locatoin: In Rooms\, 219 Devon Street Eas
 t\, Time: 4:30PM
SUMMARY:Auction for 
END:VEVENT
END:VCALENDAR
