BEGIN:VCALENDAR
VERSION:2.0
PRODID:icalendar-ruby
CALSCALE:GREGORIAN
BEGIN:VEVENT
DTSTAMP:20210120T202807Z
UID:f48fbba6-6a14-45ef-b6e8-f4b00dfee018
DTSTART;VALUE=DATE:20200911
DESCRIPTION:Property ID# 487064\, Locatoin: Bayleys Taranaki Office\, 15 Co
 urtenay Street\, New Plymouth\, Time: 1:00PM
SUMMARY:Auction for 
END:VEVENT
END:VCALENDAR
