BEGIN:VCALENDAR
VERSION:2.0
PRODID:icalendar-ruby
CALSCALE:GREGORIAN
BEGIN:VEVENT
DTSTAMP:20210120T202123Z
UID:524b829f-1df4-424e-bb45-87815d3dfdda
DTSTART;VALUE=DATE:20200905
DESCRIPTION:Property ID# 486838\, Locatoin: On Site\, Time: 12:00PM
SUMMARY:Auction for 
END:VEVENT
END:VCALENDAR
