BEGIN:VCALENDAR
VERSION:2.0
PRODID:icalendar-ruby
CALSCALE:GREGORIAN
BEGIN:VEVENT
DTSTAMP:20210120T202808Z
UID:9d90d4bb-9c29-446e-8a68-bdf100b1e852
DTSTART;VALUE=DATE:20200828
DESCRIPTION:Property ID# 486116\, Locatoin: Bayleys Taranaki\, 15 Courtenay
  Street\, New Plymouth \, Time: 1:00AM
SUMMARY:Auction for 
END:VEVENT
END:VCALENDAR
