BEGIN:VCALENDAR
VERSION:2.0
PRODID:icalendar-ruby
CALSCALE:GREGORIAN
BEGIN:VEVENT
DTSTAMP:20210120T202810Z
UID:3e5cd0a1-34a5-4ed5-b586-aa25d2df7411
DTSTART;VALUE=DATE:20200724
DESCRIPTION:Property ID# 483755\, Locatoin: Bayleys Taranaki\, 15 Courtenay
  Street\, New Plymouth \, Time: 1:00PM
SUMMARY:Auction for 
END:VEVENT
END:VCALENDAR
