BEGIN:VCALENDAR
VERSION:2.0
PRODID:icalendar-ruby
CALSCALE:GREGORIAN
BEGIN:VEVENT
DTSTAMP:20210120T202811Z
UID:10c97107-2d21-4cd5-bb53-38ee47851ca8
DTSTART;VALUE=DATE:20200710
DESCRIPTION:Property ID# 481317\, Locatoin: Bayleys Taranaki\, 15 Courtenay
  Street\, New Plymouth \, Time: 1:00PM
SUMMARY:Auction for 
END:VEVENT
END:VCALENDAR
