BEGIN:VCALENDAR
VERSION:2.0
PRODID:icalendar-ruby
CALSCALE:GREGORIAN
BEGIN:VEVENT
DTSTAMP:20210120T202125Z
UID:72b841b6-206f-403e-b5b2-ba81f295e7bb
DTSTART;VALUE=DATE:20200610
DESCRIPTION:Property ID# 481113\, Time: 4:00PM
SUMMARY:Auction for 
END:VEVENT
END:VCALENDAR
