BEGIN:VCALENDAR
VERSION:2.0
PRODID:icalendar-ruby
CALSCALE:GREGORIAN
BEGIN:VEVENT
DTSTAMP:20210120T202817Z
UID:210af233-502f-4d3f-9183-c5b55e30dd9d
DTSTART;VALUE=DATE:20200313
DESCRIPTION:Property ID# 472484\, Locatoin: Bayleys Taranaki\, 15 Courtenay
  Street\, New Plymouth \, Time: 1:00PM
SUMMARY:Auction for 
END:VEVENT
END:VCALENDAR
