BEGIN:VCALENDAR
VERSION:2.0
PRODID:icalendar-ruby
CALSCALE:GREGORIAN
BEGIN:VEVENT
DTSTAMP:20210120T202126Z
UID:8f6596c2-0484-4bf5-a1e2-4d3f3c25bb6f
DTSTART;VALUE=DATE:20200131
DESCRIPTION:Property ID# 470243\, Locatoin: In-rooms\, 219 Devon Street Eas
 t\, New Plymouth Central\, Time: 12:00PM
SUMMARY:Auction for 
END:VEVENT
END:VCALENDAR
