BEGIN:VCALENDAR
VERSION:2.0
PRODID:icalendar-ruby
CALSCALE:GREGORIAN
BEGIN:VEVENT
DTSTAMP:20210120T202128Z
UID:ed720b62-05a3-4c15-8d5f-109cf1b8379e
DTSTART;VALUE=DATE:20191205
DESCRIPTION:Property ID# 466893\, Locatoin: On-site at 7 Pendarves Street\,
  Time: 6:00PM
SUMMARY:Auction for 
END:VEVENT
END:VCALENDAR
