BEGIN:VCALENDAR
VERSION:2.0
PRODID:icalendar-ruby
CALSCALE:GREGORIAN
BEGIN:VEVENT
DTSTAMP:20210120T202130Z
UID:58f3199d-84c2-4ce8-b4cf-3f66fd506e3c
DTSTART;VALUE=DATE:20191127
DESCRIPTION:Property ID# 466449\, Time: 4:00PM
SUMMARY:Auction for 
END:VEVENT
END:VCALENDAR
